BEGIN:VCALENDAR
VERSION:2.0
PRODID:-//angelssurvivingcancer.org - ECPv6.15.20//NONSGML v1.0//EN
CALSCALE:GREGORIAN
METHOD:PUBLISH
X-WR-CALNAME:angelssurvivingcancer.org
X-ORIGINAL-URL:https://angelssurvivingcancer.org
X-WR-CALDESC:Events for angelssurvivingcancer.org
REFRESH-INTERVAL;VALUE=DURATION:PT1H
X-Robots-Tag:noindex
X-PUBLISHED-TTL:PT1H
BEGIN:VTIMEZONE
TZID:UTC
BEGIN:STANDARD
TZOFFSETFROM:+0000
TZOFFSETTO:+0000
TZNAME:UTC
DTSTART:20220101T000000
END:STANDARD
END:VTIMEZONE
BEGIN:VEVENT
DTSTART;TZID=UTC:20230128T130000
DTEND;TZID=UTC:20230128T150000
DTSTAMP:20260419T231353
CREATED:20230117T070700Z
LAST-MODIFIED:20230117T071400Z
UID:42163-1674910800-1674918000@angelssurvivingcancer.org
SUMMARY:ASC Membership Meeting
DESCRIPTION:Please join us for the membership meeting on Saturday\, January 28\, 2023. Admission is free for all existing and potential members. \nPlease remember to pay your membership dues.
URL:https://angelssurvivingcancer.org/event/asc-membership-meeting/
LOCATION:St. Francis Xavier Catholic Church\, 4600 Reed Road\, Houston\, TX\, 77051\, United States
CATEGORIES:Membership Meetings
ATTACH;FMTTYPE=image/jpeg:https://angelssurvivingcancer.org/wp-content/uploads/2023/01/2023-01-ASC-Membership-Meeting.jpg
ORGANIZER;CN="Angels Surviving Cancer":MAILTO:info@angelssurvivingcancer.org
END:VEVENT
END:VCALENDAR