BEGIN:VCALENDAR
VERSION:2.0
PRODID:-//angelssurvivingcancer.org - ECPv6.15.20//NONSGML v1.0//EN
CALSCALE:GREGORIAN
METHOD:PUBLISH
X-WR-CALNAME:angelssurvivingcancer.org
X-ORIGINAL-URL:https://angelssurvivingcancer.org
X-WR-CALDESC:Events for angelssurvivingcancer.org
REFRESH-INTERVAL;VALUE=DURATION:PT1H
X-Robots-Tag:noindex
X-PUBLISHED-TTL:PT1H
BEGIN:VTIMEZONE
TZID:UTC
BEGIN:STANDARD
TZOFFSETFROM:+0000
TZOFFSETTO:+0000
TZNAME:UTC
DTSTART:20210101T000000
END:STANDARD
END:VTIMEZONE
BEGIN:VEVENT
DTSTART;TZID=UTC:20221008T100000
DTEND;TZID=UTC:20221008T150000
DTSTAMP:20260419T185904
CREATED:20220922T054549Z
LAST-MODIFIED:20221008T155730Z
UID:30121-1665223200-1665241200@angelssurvivingcancer.org
SUMMARY:Women's Health Summit
DESCRIPTION:Please join us at the Women’s Health Summit at Fountain of Praise Church in the Fountainlife Center on October 8\, 2022 from 10 AM to 3 PM.
URL:https://angelssurvivingcancer.org/event/women-health-summit/
LOCATION:FountainLife Center\, 14083 Main Street\, Houston\, TX\, 77035\, United States
ATTACH;FMTTYPE=image/webp:https://angelssurvivingcancer.org/wp-content/uploads/2022/09/Health-Summit.webp
END:VEVENT
BEGIN:VEVENT
DTSTART;TZID=UTC:20221007T180000
DTEND;TZID=UTC:20221007T180000
DTSTAMP:20260419T185904
CREATED:20221005T063012Z
LAST-MODIFIED:20221005T063012Z
UID:31395-1665165600-1665165600@angelssurvivingcancer.org
SUMMARY:Pink and Purple  Party
DESCRIPTION:https://www.eventbrite.com/…/pink-purple-1st-friday…
URL:https://angelssurvivingcancer.org/event/pink-and-purple-party/
LOCATION:toque event center\, 2025 Post oak\, Houston\, texas
CATEGORIES:Social Events
END:VEVENT
BEGIN:VEVENT
DTSTART;TZID=UTC:20221006T180000
DTEND;TZID=UTC:20221006T210000
DTSTAMP:20260419T185904
CREATED:20220816T052507Z
LAST-MODIFIED:20221005T063747Z
UID:26699-1665079200-1665090000@angelssurvivingcancer.org
SUMMARY:2nd Annual SurviveHer Soiree
DESCRIPTION:Join us at the 2nd Annual SurviveHer Soiree at the Junior League of Houston.\nPlease visit https://imasurviveher.org/soiree to learn more and purchase tickets. \n  \n \n\n← Back Thank you for your response. ✨\n\n\n					\n						\n							\n							\n						\n						\n						\n						\n						\n							\n								\n									\n										\n										\n									\n									\n										\n										\n									\n								\n							\n						\n						\n							\n								\n									\n									\n										\n									\n									\n									\n								\n							\n						\n					\n				\n\n\n\nName(required)\n\n \n			\n				\n					\n						\n						\n						\n					\n				\n				\n			 \n	\n\n\nEmail(required)\n\n \n			\n				\n					\n						\n						\n						\n					\n				\n				\n			 \n	\n\n\nWebsite\n\n \n			\n				\n					\n						\n						\n						\n					\n				\n				\n			 \n	\n\n\nMessage\n\n \n			\n				\n					\n						\n						\n						\n					\n				\n				\n			\n	\n	\n\n				\n					\n				\n						Submit		\n		\n		\n	 \n\n\n\n← Back Thank you for your response. ✨\n\n\n					\n						\n							\n							\n						\n						\n						\n						\n						\n							\n								\n									\n										\n										\n									\n									\n										\n										\n									\n								\n							\n						\n						\n							\n								\n									\n									\n										\n									\n									\n									\n								\n							\n						\n					\n				\n\n\n\nName(required)\n\n \n			\n				\n					\n						\n						\n						\n					\n				\n				\n			 \n	\n\n\nEmail(required)\n\n \n			\n				\n					\n						\n						\n						\n					\n				\n				\n			 \n	\n\n\nWebsite\n\n \n			\n				\n					\n						\n						\n						\n					\n				\n				\n			 \n	\n\n\nMessage\n\n \n			\n				\n					\n						\n						\n						\n					\n				\n				\n			\n	\n	\n\n				\n					\n				\n						Submit
URL:https://angelssurvivingcancer.org/event/2nd-annual-surviveher-soiree/
LOCATION:Junior League of Houston\, 1811 Briar Oaks Ln\, Houston\, TX\, 77027\, United States
CATEGORIES:Social Events,Survivor Event
ATTACH;FMTTYPE=image/jpeg:https://angelssurvivingcancer.org/wp-content/uploads/2022/08/2022-10-06-SurviveHer-Soiree.jpg
END:VEVENT
END:VCALENDAR