BEGIN:VCALENDAR
VERSION:2.0
PRODID:-//angelssurvivingcancer.org - ECPv6.15.20//NONSGML v1.0//EN
CALSCALE:GREGORIAN
METHOD:PUBLISH
X-ORIGINAL-URL:https://angelssurvivingcancer.org
X-WR-CALDESC:Events for angelssurvivingcancer.org
REFRESH-INTERVAL;VALUE=DURATION:PT1H
X-Robots-Tag:noindex
X-PUBLISHED-TTL:PT1H
BEGIN:VTIMEZONE
TZID:America/Chicago
BEGIN:DAYLIGHT
TZOFFSETFROM:-0600
TZOFFSETTO:-0500
TZNAME:CDT
DTSTART:20220313T080000
END:DAYLIGHT
BEGIN:STANDARD
TZOFFSETFROM:-0500
TZOFFSETTO:-0600
TZNAME:CST
DTSTART:20221106T070000
END:STANDARD
BEGIN:DAYLIGHT
TZOFFSETFROM:-0600
TZOFFSETTO:-0500
TZNAME:CDT
DTSTART:20230312T080000
END:DAYLIGHT
BEGIN:STANDARD
TZOFFSETFROM:-0500
TZOFFSETTO:-0600
TZNAME:CST
DTSTART:20231105T070000
END:STANDARD
BEGIN:DAYLIGHT
TZOFFSETFROM:-0600
TZOFFSETTO:-0500
TZNAME:CDT
DTSTART:20240310T080000
END:DAYLIGHT
BEGIN:STANDARD
TZOFFSETFROM:-0500
TZOFFSETTO:-0600
TZNAME:CST
DTSTART:20241103T070000
END:STANDARD
END:VTIMEZONE
BEGIN:VEVENT
DTSTART;TZID=America/Chicago:20231028T130000
DTEND;TZID=America/Chicago:20231028T150000
DTSTAMP:20260420T163130
CREATED:20230917T121137Z
LAST-MODIFIED:20230917T121137Z
UID:68493-1698498000-1698505200@angelssurvivingcancer.org
SUMMARY:Angels Surviving Cancer\, Inc. Membership Meeting and Breast Cancer Month Celebration
DESCRIPTION:Angels Surviving Cancer\, Inc. Membership Meeting and Breast Cancer Month Celebration \nDate: October 28\, 2023 \nLocation: 4600 Reed Road (Harris Building) 1-3pm
URL:https://angelssurvivingcancer.org/event/angels-surviving-cancer-inc-membership-meeting-and-breast-cancer-month-celebration/
LOCATION:St. Francis Xavier Catholic Church\, 4600 Reed Road\, Houston\, TX\, 77051\, United States
CATEGORIES:Membership Meetings
END:VEVENT
END:VCALENDAR