BEGIN:VCALENDAR
VERSION:2.0
PRODID:-//angelssurvivingcancer.org - ECPv6.15.20//NONSGML v1.0//EN
CALSCALE:GREGORIAN
METHOD:PUBLISH
X-WR-CALNAME:angelssurvivingcancer.org
X-ORIGINAL-URL:https://angelssurvivingcancer.org
X-WR-CALDESC:Events for angelssurvivingcancer.org
REFRESH-INTERVAL;VALUE=DURATION:PT1H
X-Robots-Tag:noindex
X-PUBLISHED-TTL:PT1H
BEGIN:VTIMEZONE
TZID:America/Chicago
BEGIN:DAYLIGHT
TZOFFSETFROM:-0600
TZOFFSETTO:-0500
TZNAME:CDT
DTSTART:20220313T080000
END:DAYLIGHT
BEGIN:STANDARD
TZOFFSETFROM:-0500
TZOFFSETTO:-0600
TZNAME:CST
DTSTART:20221106T070000
END:STANDARD
BEGIN:DAYLIGHT
TZOFFSETFROM:-0600
TZOFFSETTO:-0500
TZNAME:CDT
DTSTART:20230312T080000
END:DAYLIGHT
BEGIN:STANDARD
TZOFFSETFROM:-0500
TZOFFSETTO:-0600
TZNAME:CST
DTSTART:20231105T070000
END:STANDARD
BEGIN:DAYLIGHT
TZOFFSETFROM:-0600
TZOFFSETTO:-0500
TZNAME:CDT
DTSTART:20240310T080000
END:DAYLIGHT
BEGIN:STANDARD
TZOFFSETFROM:-0500
TZOFFSETTO:-0600
TZNAME:CST
DTSTART:20241103T070000
END:STANDARD
END:VTIMEZONE
BEGIN:VEVENT
DTSTART;TZID=America/Chicago:20230923T130000
DTEND;TZID=America/Chicago:20230923T150000
DTSTAMP:20260420T175743
CREATED:20230917T100142Z
LAST-MODIFIED:20230919T230311Z
UID:68431-1695474000-1695481200@angelssurvivingcancer.org
SUMMARY:Angels Surviving Cancer\,Inc. Membership Meeting (Harris Building)
DESCRIPTION:Join us at the membership meeting! \nLocation: 4600 Reed Road\, Houston\, TX \nTime: 1:00 PM – 3:00 PM
URL:https://angelssurvivingcancer.org/event/angels-surviving-cancerinc-membership-meeting-harris-building/
LOCATION:St. Francis Xavier Catholic Church\, 4600 Reed Road\, Houston\, TX\, 77051\, United States
CATEGORIES:Membership Meetings
ATTACH;FMTTYPE=image/jpeg:https://angelssurvivingcancer.org/wp-content/uploads/2023/09/IMG_20230919_175040.jpg
END:VEVENT
END:VCALENDAR