BEGIN:VCALENDAR
VERSION:2.0
PRODID:-//angelssurvivingcancer.org - ECPv6.15.20//NONSGML v1.0//EN
CALSCALE:GREGORIAN
METHOD:PUBLISH
X-ORIGINAL-URL:https://angelssurvivingcancer.org
X-WR-CALDESC:Events for angelssurvivingcancer.org
REFRESH-INTERVAL;VALUE=DURATION:PT1H
X-Robots-Tag:noindex
X-PUBLISHED-TTL:PT1H
BEGIN:VTIMEZONE
TZID:America/Chicago
BEGIN:DAYLIGHT
TZOFFSETFROM:-0600
TZOFFSETTO:-0500
TZNAME:CDT
DTSTART:20240310T080000
END:DAYLIGHT
BEGIN:STANDARD
TZOFFSETFROM:-0500
TZOFFSETTO:-0600
TZNAME:CST
DTSTART:20241103T070000
END:STANDARD
BEGIN:DAYLIGHT
TZOFFSETFROM:-0600
TZOFFSETTO:-0500
TZNAME:CDT
DTSTART:20250309T080000
END:DAYLIGHT
BEGIN:STANDARD
TZOFFSETFROM:-0500
TZOFFSETTO:-0600
TZNAME:CST
DTSTART:20251102T070000
END:STANDARD
BEGIN:DAYLIGHT
TZOFFSETFROM:-0600
TZOFFSETTO:-0500
TZNAME:CDT
DTSTART:20260308T080000
END:DAYLIGHT
BEGIN:STANDARD
TZOFFSETFROM:-0500
TZOFFSETTO:-0600
TZNAME:CST
DTSTART:20261101T070000
END:STANDARD
BEGIN:DAYLIGHT
TZOFFSETFROM:-0600
TZOFFSETTO:-0500
TZNAME:CDT
DTSTART:20270314T080000
END:DAYLIGHT
BEGIN:STANDARD
TZOFFSETFROM:-0500
TZOFFSETTO:-0600
TZNAME:CST
DTSTART:20271107T070000
END:STANDARD
END:VTIMEZONE
BEGIN:VEVENT
DTSTART;TZID=America/Chicago:20251025T150000
DTEND;TZID=America/Chicago:20251025T170000
DTSTAMP:20260420T210333
CREATED:20250920T171852Z
LAST-MODIFIED:20250920T171852Z
UID:99168-1761404400-1761411600@angelssurvivingcancer.org
SUMMARY:Step Up for the Cure
DESCRIPTION:Angels Surviving Cancer cordially invites you to step with us at Step Up for the Cure! \nSaturday October 25\n3:00 PM to 6:00PM\nArizona Fleming Elementary\n14850 Bissonnet Street\nHouston\, TX 77083\nLight Snacks\, Prizes\, Raffle \nGet your dancing shoes ready! Join Angels Surviving Cancer\, Inc. (ASC) as we line dance for a cause during Breast Cancer Awareness Month. \nThis fun and energetic event isn’t just about the music and the moves—it’s about making a difference. Every step you take helps us raise vital funds for the Janice Workcuff C.A.R.E. Legacy Program\, which provides emergency and practical support for women diagnosed with breast cancer. \nCome out\, bring your friends and family\, and enjoy a great time while giving back to a powerful cause.\nTogether\, we can bring hope\, healing\, and help to women in need.
URL:https://angelssurvivingcancer.org/event/step-up-for-the-cure/
LOCATION:Arizona Fleming Elementary\, 14850 Bissonnet St\, Houston\, TX\, 77083\, United States
CATEGORIES:Fundraiser
ATTACH;FMTTYPE=image/png:https://angelssurvivingcancer.org/wp-content/uploads/2025/09/ASC-Line-Dance-Flyer-Small.png
ORGANIZER;CN="Angels Surviving Cancer":MAILTO:info@angelssurvivingcancer.org
END:VEVENT
BEGIN:VEVENT
DTSTART;VALUE=DATE:20260322
DTEND;VALUE=DATE:20260323
DTSTAMP:20260420T210333
CREATED:20251221T091344Z
LAST-MODIFIED:20260308T153627Z
UID:99315-1774137600-1774223999@angelssurvivingcancer.org
SUMMARY:2026 ASC Annual Scholarship Bowling Fundraiser
DESCRIPTION:Join us for our annual bowling fundraiser to help raise money for our scholarship program benefiting children of breast cancer survivors!\nMarch 22\, 2026\nLuky Strike\n925 Bunker Hill Road\nHouston\, TX 77024
URL:https://angelssurvivingcancer.org/event/2026-asc-annual-scholarship-bowling-fundraiser/
LOCATION:Lucky Strike\, 925 Bunker Hill\, Houston\, TX\, 77024\, United States
CATEGORIES:Angels Surviving Cancer,Fundraiser
ATTACH;FMTTYPE=image/jpeg:https://angelssurvivingcancer.org/wp-content/uploads/2026/03/2026-Bowling-2.jpg
ORGANIZER;CN="Angels Surviving Cancer":MAILTO:info@angelssurvivingcancer.org
END:VEVENT
END:VCALENDAR