BEGIN:VCALENDAR
VERSION:2.0
PRODID:-//angelssurvivingcancer.org - ECPv6.15.20//NONSGML v1.0//EN
CALSCALE:GREGORIAN
METHOD:PUBLISH
X-ORIGINAL-URL:https://angelssurvivingcancer.org
X-WR-CALDESC:Events for angelssurvivingcancer.org
REFRESH-INTERVAL;VALUE=DURATION:PT1H
X-Robots-Tag:noindex
X-PUBLISHED-TTL:PT1H
BEGIN:VTIMEZONE
TZID:UTC
BEGIN:STANDARD
TZOFFSETFROM:+0000
TZOFFSETTO:+0000
TZNAME:UTC
DTSTART:20210101T000000
END:STANDARD
END:VTIMEZONE
BEGIN:VEVENT
DTSTART;TZID=UTC:20221014T080000
DTEND;TZID=UTC:20221014T140000
DTSTAMP:20260421T043317
CREATED:20220816T061256Z
LAST-MODIFIED:20220816T061319Z
UID:26710-1665734400-1665756000@angelssurvivingcancer.org
SUMMARY:7th Annual Reconstruction of a Survivor Golf Tournament
DESCRIPTION:Join us at the 7th Annual Reconstruction of a Survivor Golf Tournament. Learn more at https://reconstructasurvivor.org.
URL:https://angelssurvivingcancer.org/event/7th-annual-reconstruction-of-a-survivor-golf-tournament/
LOCATION:Atascocita Golf Club\, 20114 Pinehurst Dr\, Humble\, TX\, 77346\, United States
CATEGORIES:Fundraiser,Social Events
ATTACH;FMTTYPE=image/jpeg:https://angelssurvivingcancer.org/wp-content/uploads/2022/08/2022-ros-golf-tournament.jpg
END:VEVENT
END:VCALENDAR