BEGIN:VCALENDAR
VERSION:2.0
PRODID:-//angelssurvivingcancer.org - ECPv6.15.20//NONSGML v1.0//EN
CALSCALE:GREGORIAN
METHOD:PUBLISH
X-WR-CALNAME:angelssurvivingcancer.org
X-ORIGINAL-URL:https://angelssurvivingcancer.org
X-WR-CALDESC:Events for angelssurvivingcancer.org
REFRESH-INTERVAL;VALUE=DURATION:PT1H
X-Robots-Tag:noindex
X-PUBLISHED-TTL:PT1H
BEGIN:VTIMEZONE
TZID:UTC
BEGIN:STANDARD
TZOFFSETFROM:+0000
TZOFFSETTO:+0000
TZNAME:UTC
DTSTART:20210101T000000
END:STANDARD
END:VTIMEZONE
BEGIN:VEVENT
DTSTART;TZID=UTC:20221008T190000
DTEND;TZID=UTC:20221008T210000
DTSTAMP:20260421T043533
CREATED:20220816T053337Z
LAST-MODIFIED:20220816T053337Z
UID:26706-1665255600-1665262800@angelssurvivingcancer.org
SUMMARY:Elliott Chandler Foundation Arts Gala
DESCRIPTION:Join us at the Arts Gala\, presented by the Elliott Chandler Foundation.\nLearn more at https://elliottchandlerfoundation.org.
URL:https://angelssurvivingcancer.org/event/elliott-chandler-foundation-arts-gala/
LOCATION:Royal Sonesta Hotel\, 2222 W Loop S\, Houston\, TX\, 77027\, United States
CATEGORIES:Fundraiser,Social Events
ATTACH;FMTTYPE=image/jpeg:https://angelssurvivingcancer.org/wp-content/uploads/2022/08/2022-arts-gala.jpg
END:VEVENT
END:VCALENDAR