BEGIN:VCALENDAR
VERSION:2.0
PRODID:-//angelssurvivingcancer.org - ECPv6.15.20//NONSGML v1.0//EN
CALSCALE:GREGORIAN
METHOD:PUBLISH
X-ORIGINAL-URL:https://angelssurvivingcancer.org
X-WR-CALDESC:Events for angelssurvivingcancer.org
REFRESH-INTERVAL;VALUE=DURATION:PT1H
X-Robots-Tag:noindex
X-PUBLISHED-TTL:PT1H
BEGIN:VTIMEZONE
TZID:America/Chicago
BEGIN:DAYLIGHT
TZOFFSETFROM:-0600
TZOFFSETTO:-0500
TZNAME:CDT
DTSTART:20220313T080000
END:DAYLIGHT
BEGIN:STANDARD
TZOFFSETFROM:-0500
TZOFFSETTO:-0600
TZNAME:CST
DTSTART:20221106T070000
END:STANDARD
BEGIN:DAYLIGHT
TZOFFSETFROM:-0600
TZOFFSETTO:-0500
TZNAME:CDT
DTSTART:20230312T080000
END:DAYLIGHT
BEGIN:STANDARD
TZOFFSETFROM:-0500
TZOFFSETTO:-0600
TZNAME:CST
DTSTART:20231105T070000
END:STANDARD
BEGIN:DAYLIGHT
TZOFFSETFROM:-0600
TZOFFSETTO:-0500
TZNAME:CDT
DTSTART:20240310T080000
END:DAYLIGHT
BEGIN:STANDARD
TZOFFSETFROM:-0500
TZOFFSETTO:-0600
TZNAME:CST
DTSTART:20241103T070000
END:STANDARD
END:VTIMEZONE
BEGIN:VEVENT
DTSTART;TZID=America/Chicago:20230917T080000
DTEND;TZID=America/Chicago:20230917T170000
DTSTAMP:20260420T110313
CREATED:20230917T121813Z
LAST-MODIFIED:20230921T200128Z
UID:68495-1694937600-1694970000@angelssurvivingcancer.org
SUMMARY:2nd Annual Pretty in Pink Brunch
DESCRIPTION:2nd Annual Pretty in Pink Brunch \nLocation: Humble Civic Center\, 8233 Will Clayton Pkwy\, Humble\, TX 77338 \nDate: October 29\, 2023 \nTime: 11:00 AM – 2:00 PM \nIn support of Breast Cancer Awareness Month\, 100% of the net proceeds from the silent auction will benefit Angels Surviving Cancer\, Inc. \nCall Libby or Evelyn for tickets and advertising.
URL:https://angelssurvivingcancer.org/event/2nd-annual-pretty-in-pink-brunch/
LOCATION:TX
CATEGORIES:Brunch,Charity Event,Fundraiser
ATTACH;FMTTYPE=image/jpeg:https://angelssurvivingcancer.org/wp-content/uploads/2023/09/2023-10-29-ASC-Event.jpg
END:VEVENT
END:VCALENDAR