BEGIN:VCALENDAR
VERSION:2.0
PRODID:-//angelssurvivingcancer.org - ECPv6.15.20//NONSGML v1.0//EN
CALSCALE:GREGORIAN
METHOD:PUBLISH
X-ORIGINAL-URL:https://angelssurvivingcancer.org
X-WR-CALDESC:Events for angelssurvivingcancer.org
REFRESH-INTERVAL;VALUE=DURATION:PT1H
X-Robots-Tag:noindex
X-PUBLISHED-TTL:PT1H
BEGIN:VTIMEZONE
TZID:UTC
BEGIN:STANDARD
TZOFFSETFROM:+0000
TZOFFSETTO:+0000
TZNAME:UTC
DTSTART:20210101T000000
END:STANDARD
END:VTIMEZONE
BEGIN:VEVENT
DTSTART;VALUE=DATE:20221129
DTEND;VALUE=DATE:20221130
DTSTAMP:20260420T022500
CREATED:20221116T015416Z
LAST-MODIFIED:20221119T060526Z
UID:35719-1669680000-1669766399@angelssurvivingcancer.org
SUMMARY:Giving Tuesday
DESCRIPTION:Donate to support our breast cancer survivors on this year’s Giving Tuesday! We appreciate all your donations and on-going support. Donations will support the following initiatives: \n\nEducational Outreach Program\nAngel Network Program\nScholarship Program\nMental Health Program\nHealed Angels Living On (H.A.L.O) Program\nCancer Awareness\, Resources and Encouragement (C.A.R.E) Program\n\nDonate Today!
URL:https://angelssurvivingcancer.org/event/giving-tuesday/
LOCATION:TX
CATEGORIES:Angels Surviving Cancer,Fundraiser
ATTACH;FMTTYPE=image/jpeg:https://angelssurvivingcancer.org/wp-content/uploads/2022/11/giving-tuesday-2022.jpg
ORGANIZER;CN="Angels Surviving Cancer":MAILTO:info@angelssurvivingcancer.org
END:VEVENT
END:VCALENDAR