BEGIN:VCALENDAR
VERSION:2.0
PRODID:-//angelssurvivingcancer.org - ECPv6.15.20//NONSGML v1.0//EN
CALSCALE:GREGORIAN
METHOD:PUBLISH
X-WR-CALNAME:angelssurvivingcancer.org
X-ORIGINAL-URL:https://angelssurvivingcancer.org
X-WR-CALDESC:Events for angelssurvivingcancer.org
REFRESH-INTERVAL;VALUE=DURATION:PT1H
X-Robots-Tag:noindex
X-PUBLISHED-TTL:PT1H
BEGIN:VTIMEZONE
TZID:UTC
BEGIN:STANDARD
TZOFFSETFROM:+0000
TZOFFSETTO:+0000
TZNAME:UTC
DTSTART:20210101T000000
END:STANDARD
END:VTIMEZONE
BEGIN:VEVENT
DTSTART;TZID=UTC:20221126T100000
DTEND;TZID=UTC:20221126T180000
DTSTAMP:20260422T031852
CREATED:20221119T060318Z
LAST-MODIFIED:20221119T060318Z
UID:36087-1669456800-1669485600@angelssurvivingcancer.org
SUMMARY:Small Business Saturday Sidewalk Sale
DESCRIPTION:Please join us for the Small Business Saturday Sidewalk Sale on November 26th for amazing deals and fun.
URL:https://angelssurvivingcancer.org/event/small-business-saturday-sidewalk-sale/
LOCATION:5306 Almeda Rd\, Houston\, TX 77004\, 5306 Almeda Rd\, Houston\, TX\, 77004\, United States
CATEGORIES:Social Events
ATTACH;FMTTYPE=image/jpeg:https://angelssurvivingcancer.org/wp-content/uploads/2022/11/IMG_6070.jpg
END:VEVENT
END:VCALENDAR