BEGIN:VCALENDAR
VERSION:2.0
PRODID:-//angelssurvivingcancer.org - ECPv6.15.20//NONSGML v1.0//EN
CALSCALE:GREGORIAN
METHOD:PUBLISH
X-WR-CALNAME:angelssurvivingcancer.org
X-ORIGINAL-URL:https://angelssurvivingcancer.org
X-WR-CALDESC:Events for angelssurvivingcancer.org
REFRESH-INTERVAL;VALUE=DURATION:PT1H
X-Robots-Tag:noindex
X-PUBLISHED-TTL:PT1H
BEGIN:VTIMEZONE
TZID:UTC
BEGIN:STANDARD
TZOFFSETFROM:+0000
TZOFFSETTO:+0000
TZNAME:UTC
DTSTART:20210101T000000
END:STANDARD
END:VTIMEZONE
BEGIN:VEVENT
DTSTART;TZID=UTC:20221016T110000
DTEND;TZID=UTC:20221016T130000
DTSTAMP:20260422T044142
CREATED:20221008T161253Z
LAST-MODIFIED:20221008T161253Z
UID:31768-1665918000-1665925200@angelssurvivingcancer.org
SUMMARY:Angels Worshiping Together - Brown Chapel AME Church
DESCRIPTION:Please join us for worship at Brown Chapel AME Church on October 16th at 11:00 AM.
URL:https://angelssurvivingcancer.org/event/angels-worshiping-together-brown-chapel-ame-church/
LOCATION:Brown Chapel AME Church\, 3208 Washington Ave\,\, Houston\, TX\, 77007\, United States
CATEGORIES:fellowship
ATTACH;FMTTYPE=image/jpeg:https://angelssurvivingcancer.org/wp-content/uploads/2022/10/IMG_3076-1.jpg
ORGANIZER;CN="Angels Surviving Cancer":MAILTO:info@angelssurvivingcancer.org
END:VEVENT
END:VCALENDAR