BEGIN:VCALENDAR
VERSION:2.0
PRODID:-//angelssurvivingcancer.org - ECPv6.15.20//NONSGML v1.0//EN
CALSCALE:GREGORIAN
METHOD:PUBLISH
X-WR-CALNAME:angelssurvivingcancer.org
X-ORIGINAL-URL:https://angelssurvivingcancer.org
X-WR-CALDESC:Events for angelssurvivingcancer.org
REFRESH-INTERVAL;VALUE=DURATION:PT1H
X-Robots-Tag:noindex
X-PUBLISHED-TTL:PT1H
BEGIN:VTIMEZONE
TZID:UTC
BEGIN:STANDARD
TZOFFSETFROM:+0000
TZOFFSETTO:+0000
TZNAME:UTC
DTSTART:20210101T000000
END:STANDARD
END:VTIMEZONE
BEGIN:VEVENT
DTSTART;TZID=UTC:20221015T110000
DTEND;TZID=UTC:20221015T170000
DTSTAMP:20260422T044149
CREATED:20221006T215924Z
LAST-MODIFIED:20221008T162436Z
UID:31576-1665831600-1665853200@angelssurvivingcancer.org
SUMMARY:Ride for a Cure (Horses)
DESCRIPTION:Saddle up and ride with us at the Ride for a Cure event in Fresno\, Texas!
URL:https://angelssurvivingcancer.org/event/ride-for-a-cure-horses/
LOCATION:TX
CATEGORIES:Horse ride
ATTACH;FMTTYPE=image/jpeg:https://angelssurvivingcancer.org/wp-content/uploads/2022/10/FB_IMG_1665068913951.jpg
END:VEVENT
BEGIN:VEVENT
DTSTART;TZID=UTC:20221015T180000
DTEND;TZID=UTC:20221015T230000
DTSTAMP:20260422T044149
CREATED:20220816T121909Z
LAST-MODIFIED:20220816T121909Z
UID:26735-1665856800-1665874800@angelssurvivingcancer.org
SUMMARY:We Run This! For The Breast of Us Sneaker Gala
DESCRIPTION:Please join us at the “We Run This” Sneaker Gala\, presented by the For the Breast of Us organization. Tickets are $75 and up. \nLearn more about the event and purchase tickets on Eventbrite.
URL:https://angelssurvivingcancer.org/event/we-run-this-for-the-breast-of-us-sneaker-gala/
LOCATION:The Exception Event Venue\, 6704 Harrisburg Boulevard\, Houston\, TX\, 77011\, United States
CATEGORIES:Social Events,Survivor Event
ATTACH;FMTTYPE=image/jpeg:https://angelssurvivingcancer.org/wp-content/uploads/2022/08/2022-10-15-We-Run-This-Gala.jpg
END:VEVENT
END:VCALENDAR