BEGIN:VCALENDAR
VERSION:2.0
PRODID:-//angelssurvivingcancer.org - ECPv6.15.20//NONSGML v1.0//EN
CALSCALE:GREGORIAN
METHOD:PUBLISH
X-ORIGINAL-URL:https://angelssurvivingcancer.org
X-WR-CALDESC:Events for angelssurvivingcancer.org
REFRESH-INTERVAL;VALUE=DURATION:PT1H
X-Robots-Tag:noindex
X-PUBLISHED-TTL:PT1H
BEGIN:VTIMEZONE
TZID:UTC
BEGIN:STANDARD
TZOFFSETFROM:+0000
TZOFFSETTO:+0000
TZNAME:UTC
DTSTART:20210101T000000
END:STANDARD
END:VTIMEZONE
BEGIN:VEVENT
DTSTART;TZID=UTC:20221013T130000
DTEND;TZID=UTC:20221013T143000
DTSTAMP:20260422T044218
CREATED:20220911T075735Z
LAST-MODIFIED:20221008T162144Z
UID:29112-1665666000-1665671400@angelssurvivingcancer.org
SUMMARY:Beauty from the Inside Out
DESCRIPTION:Join at the Beauty from the Inside Out Event at Brentwood church! We look forward to seeing you there!
URL:https://angelssurvivingcancer.org/event/beauty-from-the-inside-out/
LOCATION:TX
CATEGORIES:Survivor Event
ATTACH;FMTTYPE=image/jpeg:https://angelssurvivingcancer.org/wp-content/uploads/2022/09/image-1.jpg
END:VEVENT
BEGIN:VEVENT
DTSTART;TZID=UTC:20221013T190000
DTEND;TZID=UTC:20221013T190000
DTSTAMP:20260422T044218
CREATED:20221005T063510Z
LAST-MODIFIED:20221008T162315Z
UID:31402-1665687600-1665687600@angelssurvivingcancer.org
SUMMARY:Angels Prayer call
DESCRIPTION:Connect and pray with us on October 13th! Corporate prayer works!
URL:https://angelssurvivingcancer.org/event/angels-prayer-call/
LOCATION:TX
CATEGORIES:Ministry Event
ATTACH;FMTTYPE=image/jpeg:https://angelssurvivingcancer.org/wp-content/uploads/2022/10/123_1-1.jpeg
ORGANIZER;CN="Angels Surviving Cancer":MAILTO:info@angelssurvivingcancer.org
END:VEVENT
END:VCALENDAR