BEGIN:VCALENDAR
VERSION:2.0
PRODID:-//angelssurvivingcancer.org - ECPv6.15.20//NONSGML v1.0//EN
CALSCALE:GREGORIAN
METHOD:PUBLISH
X-WR-CALNAME:angelssurvivingcancer.org
X-ORIGINAL-URL:https://angelssurvivingcancer.org
X-WR-CALDESC:Events for angelssurvivingcancer.org
REFRESH-INTERVAL;VALUE=DURATION:PT1H
X-Robots-Tag:noindex
X-PUBLISHED-TTL:PT1H
BEGIN:VTIMEZONE
TZID:UTC
BEGIN:STANDARD
TZOFFSETFROM:+0000
TZOFFSETTO:+0000
TZNAME:UTC
DTSTART:20210101T000000
END:STANDARD
END:VTIMEZONE
BEGIN:VEVENT
DTSTART;TZID=UTC:20221009T110000
DTEND;TZID=UTC:20221009T130000
DTSTAMP:20260422T044149
CREATED:20221005T063351Z
LAST-MODIFIED:20221008T160456Z
UID:31399-1665313200-1665320400@angelssurvivingcancer.org
SUMMARY:Angels Worshiping Together - Wheeler Avenue Baptist Church
DESCRIPTION:Please join us for worship at Wheeler Avenue Baptist Church on October 9th at 11:30 AM.
URL:https://angelssurvivingcancer.org/event/angels-worshiping-together/
LOCATION:Wheeler Avenue Baptist Church\, 3826 Wheeler Ave\, Houston\, TX\, 77004\, United States
CATEGORIES:fellowship
ATTACH;FMTTYPE=image/jpeg:https://angelssurvivingcancer.org/wp-content/uploads/2022/10/IMG_3076-1.jpg
ORGANIZER;CN="Angels Surviving Cancer":MAILTO:info@angelssurvivingcancer.org
END:VEVENT
END:VCALENDAR